BEGIN:VCALENDAR
VERSION:2.0
PRODID:-//ChamberMaster//Event Calendar 2.0//EN
METHOD:PUBLISH
X-PUBLISHED-TTL:P3D
REFRESH-INTERVAL:P3D
CALSCALE:GREGORIAN
BEGIN:VEVENT
DTSTART:20200702T000000Z
DTEND:20200702T020000Z
X-MICROSOFT-CDO-ALLDAYEVENT:FALSE
SUMMARY:Adult Writing Group: Do You Feel A Draft?
DESCRIPTION:Do You Feel a Draft? Adult Writing Group\n\nFirst and Third Wednesdays of the Month at 5:00 PM\n\nOregon City Public Library Community Room\n\nYou are invited to join this enthusiastic informal writer's circle to connect with other new and experienced writers\; share a few pages of something you are working on (or just listen if you prefer)\; sound out your ideas or resources\; make some new friends\; receive encouragement and swap ideas\; get a needed kick in the butt. All this should help you improve your craft\, regardless of your level or experience.\n\nWhether you are involved in prose\, poetry\, drama\, fiction\, non-fiction\, web content\, children's stories\, screenplays\, or novels of all genres\, these meetings are free and open to anyone interested in the writing process.\n\nWe are neither a prompt group nor a critique group. Instead\, we exist to encourage\, support and learn.\n\nContact j.elliot.text@charter.net for more information.
X-ALT-DESC;FMTTYPE=text/html:<p><strong>Do You Feel a Draft? Adult Writing Group</strong><br />\nFirst and Third Wednesdays of the Month at 5:00 PM<br />\nOregon City Public Library Community Room</p>\n\n<p>You are invited to join this enthusiastic informal writer&rsquo\;s circle to connect with other new and experienced writers\; share a few pages of something you are working on (or just listen if you prefer)\; sound out your ideas or resources\; make some new friends\; receive encouragement and swap ideas\; get a needed kick in the butt. All this should help you improve your craft\, regardless of your level or experience.</p>\n\n<p>Whether you are involved in prose\, poetry\, drama\, fiction\, non-fiction\, web content\, children&rsquo\;s stories\, screenplays\, or novels of all genres\, these meetings are free and open to anyone interested in the writing process.<br />\nWe are neither a prompt group nor a critique group. Instead\, we exist to encourage\, support and learn.</p>\n\n<p>Contact&nbsp\;<a href="mailto:j.elliot.text@charter.net" style="text-decoration-line: none\; color: rgb(62\, 96\, 173)\; background: transparent\;">j.elliot.text@charter.net</a>&nbsp\;for more information.</p>\n
LOCATION:Oregon City Public Library Community Room
UID:e.203.29673
SEQUENCE:3
DTSTAMP:20260420T112450Z
URL:https://business.oregoncity.org/events/details/adult-writing-group-do-you-feel-a-draft-07-01-2020-29673
END:VEVENT

END:VCALENDAR
