BEGIN:VCALENDAR
VERSION:2.0
PRODID:-//ChamberMaster//Event Calendar 2.0//EN
METHOD:PUBLISH
X-PUBLISHED-TTL:P3D
REFRESH-INTERVAL:P3D
CALSCALE:GREGORIAN
BEGIN:VEVENT
DTSTART:20180426T183000Z
DTEND:20180426T200000Z
X-MICROSOFT-CDO-ALLDAYEVENT:FALSE
SUMMARY:Chamber 101 New Connections
DESCRIPTION:Attend our Chamber 101 New Connections for a clear overview of how to get the most value from your membership in the Oregon City Chamber.The Brown Bag meeting gives you the opportunity to meet Chamber member leaders and staff who will walk you through their experiences in the Chamber.  We will be meeting in the foyer of Grand View Baptist Church on comfortable couches for a relaxed meeting with lots of open dialogue. NO big presentation ... just building business relationships and discovering your place in Oregon City Chamber.\n\n\n\nDiscussion topics will include: member mini-webpage on Chamber website\; Building professionals relationships\; Network without selling\; Getting involved in the Chamber. \n\n\n\nGain the tools to maximize your investment for the most value possible from your membership! This is great for ALL members including new members\, new member representatives and seasoned members looking find out what's new in the chamber.\n\n\n\nPlease Register\n\n\n\nBrown bag lunch meeting\; Beverages and dessert provided.
X-ALT-DESC;FMTTYPE=text/html:<span style="font-size: 11pt\;"><span style="font-family: arial\;">Attend our Chamber 101 <em>New</em> Connections for a clear overview of how to get the most value from your membership in the Oregon City Chamber.The Brown Bag meeting gives you the opportunity to meet Chamber member leaders and staff who will walk you through their experiences in the Chamber.&nbsp\; We will be meeting in the foyer of Grand View Baptist Church on comfortable couches&nbsp\;for a relaxed meeting&nbsp\;with lots of&nbsp\;open dialogue. NO big presentation ... just building business relationships and discovering your place in Oregon City Chamber.<br />\n<br />\nDiscussion topics will include: member mini-webpage on Chamber website\; Building professionals relationships\; Network without selling\; Getting involved in the Chamber.&nbsp\;<br />\n<br />\nGain the tools to maximize your investment for the most value possible from your membership! This is great for <strong>ALL</strong> members including new members\, new member representatives and seasoned members looking find out what&#39\;s new in the chamber.<br />\n<br />\n<a href="mailto:sburns@oregoncity.org"><strong>Please Register</strong></a></span></span><br />\n<br />\n<font color="#0000cd" size="3">Brown bag&nbsp\;lunch meeting\;&nbsp\;Beverages and dessert provided.</font>
LOCATION:Grand View Baptist Church Foyer 14855 S Leland Rd
UID:e.203.22939
SEQUENCE:3
DTSTAMP:20260420T232009Z
URL:https://business.oregoncity.org/events/details/chamber-101-new-connections-22939
END:VEVENT

END:VCALENDAR
