BEGIN:VCALENDAR
VERSION:2.0
PRODID:-//ChamberMaster//Event Calendar 2.0//EN
METHOD:PUBLISH
X-PUBLISHED-TTL:P3D
REFRESH-INTERVAL:P3D
CALSCALE:GREGORIAN
BEGIN:VEVENT
DTSTART:20190718T223000Z
DTEND:20190719T000000Z
X-MICROSOFT-CDO-ALLDAYEVENT:FALSE
SUMMARY:Chop It Like It’s Hot!
DESCRIPTION:Want to learn some mad cooking skills to impress your friends? Explore the culinary world through weekly cooking brought to you by OSU Extension experts!\n\nSpace is limited to 16 and is first come\, first serve! For teens who are in 7-12 grade. Note: Knives and hot elements are a part of this program!
X-ALT-DESC;FMTTYPE=text/html:<p>Want to learn some mad cooking skills to impress your friends? Explore the culinary world through weekly cooking brought to you by OSU Extension experts!</p>\n\n<p>Space is limited to 16 and is first come\, first serve!&nbsp\;<em>For teens who are in 7-12 grade</em>. Note: Knives and hot elements are a part of this program!</p>\n
LOCATION:Oregon City Public Library Community Room
UID:e.203.28788
SEQUENCE:3
DTSTAMP:20260424T195842Z
URL:https://business.oregoncity.org/events/details/chop-it-like-it-s-hot-07-18-2019-28788
END:VEVENT

END:VCALENDAR
