BEGIN:VCALENDAR
VERSION:2.0
PRODID:-//ChamberMaster//Event Calendar 2.0//EN
METHOD:PUBLISH
X-PUBLISHED-TTL:P3D
REFRESH-INTERVAL:P3D
CALSCALE:GREGORIAN
BEGIN:VEVENT
DTSTART:20210818T143000Z
DTEND:20210818T160000Z
X-MICROSOFT-CDO-ALLDAYEVENT:FALSE
SUMMARY:GMOC - Health Markets Inc
DESCRIPTION:Good Morning Oregon City (GMOC) is the flagship of the Oregon City Chamber. This morning networking event is lively\, fun and very popular. There's plenty of time to network with business leaders from the Oregon City and surrounding areas both before and after the morning program.\n\n\n\nEnjoy raffle drawings\, self-introductions and the popular "$plit the Buck$". GMOC is also a great opportunity to get to know the community and build those valuable business relationships.
X-ALT-DESC;FMTTYPE=text/html:<span style="color:#3F3F3F\;"><span style="font-family:verdana\,sans-serif\;"><span style="font-size:9.0pt\;">Good Morning Oregon City (GMOC) is the flagship of the Oregon City Chamber. This morning networking event is lively\, fun and very popular. There&#39\;s plenty of time to network with business leaders from the Oregon City and surrounding areas both before and after the morning program.<br />\n<br />\nEnjoy raffle drawings\, self-introductions and the popular &quot\;$plit the Buck$&quot\;. GMOC is also&nbsp\;a great opportunity to get to know the community and build those valuable business relationships.</span></span></span>
LOCATION:OUTDOOR EVENT 515 High St\, Oregon City\, OR 97045
UID:e.203.31222
SEQUENCE:3
DTSTAMP:20260425T014731Z
URL:https://business.oregoncity.org/events/details/gmoc-health-markets-inc-31222
END:VEVENT

END:VCALENDAR
