BEGIN:VCALENDAR
VERSION:2.0
PRODID:-//ChamberMaster//Event Calendar 2.0//EN
METHOD:PUBLISH
X-PUBLISHED-TTL:P3D
REFRESH-INTERVAL:P3D
CALSCALE:GREGORIAN
BEGIN:VEVENT
DTSTART:20191209T023000Z
DTEND:20191209T040000Z
X-MICROSOFT-CDO-ALLDAYEVENT:FALSE
SUMMARY:Light up a Life: Celebrate the memory of a loved one
DESCRIPTION:Join us for a special program that includes a reading of the names of those honored and the official lighting of the Light up a Life tree. Honor a loved one with a personalized ornament on the tree\, a benefit for Providence Hospice programs.\n\n\n\nYour meaningful contribution will light up the lives and meet the needs of hospice patients and families. The name of the person you are celebrating will be written on a heart-shaped ornament and placed on the Light up a Life tree.\n\n\n\n*The Library will close early at 4:00 PM for setup and reopen at 6:00 PM. Program begins at 6:30 PM.
X-ALT-DESC;FMTTYPE=text/html:Join us for a special program that includes a reading of the names of those honored and the official lighting of the Light up a Life tree. Honor a loved one with a personalized ornament on the tree\, a benefit for Providence Hospice programs.<br />\n<br />\nYour meaningful contribution will light up the lives and meet the needs of hospice patients and families. The name of the person you are celebrating will be written on a heart-shaped ornament and placed on the Light up a Life tree.<br />\n<br />\n*The Library will close early at 4:00 PM for setup and reopen at 6:00 PM. Program begins at 6:30 PM.
LOCATION:Oregon City Library Community Room & Foyer
UID:e.203.29515
SEQUENCE:3
DTSTAMP:20260423T193935Z
URL:https://business.oregoncity.org/events/details/light-up-a-life-celebrate-the-memory-of-a-loved-one-29515
END:VEVENT

END:VCALENDAR
