BEGIN:VCALENDAR
VERSION:2.0
PRODID:-//ChamberMaster//Event Calendar 2.0//EN
METHOD:PUBLISH
X-PUBLISHED-TTL:P3D
REFRESH-INTERVAL:P3D
CALSCALE:GREGORIAN
BEGIN:VEVENT
DTSTART:20280307T153000Z
DTEND:20280307T170000Z
X-MICROSOFT-CDO-ALLDAYEVENT:FALSE
SUMMARY:OC Optimists Meeting
DESCRIPTION:We meet each Tuesday morning. We have a speaker each week(except the 1st Tuesday\, which is our business meeting).
X-ALT-DESC;FMTTYPE=text/html:We meet each Tuesday morning. We have a speaker each week(except the 1st Tuesday\, which is our business meeting).
LOCATION:Wichita Pub 19140 Molalla Avenue Oregon City
UID:e.203.32179
SEQUENCE:3
DTSTAMP:20260419T153121Z
URL:https://business.oregoncity.org/events/details/oc-optimists-meeting-03-07-2028-32179
END:VEVENT

END:VCALENDAR
