BEGIN:VCALENDAR
VERSION:2.0
PRODID:-//ChamberMaster//Event Calendar 2.0//EN
METHOD:PUBLISH
X-PUBLISHED-TTL:P3D
REFRESH-INTERVAL:P3D
CALSCALE:GREGORIAN
BEGIN:VEVENT
DTSTART:20170422T200000Z
DTEND:20170422T210000Z
X-MICROSOFT-CDO-ALLDAYEVENT:FALSE
SUMMARY:"Oregon's Ghost Towns\, A-Z" Author Talk
DESCRIPTION:Local author Steve Arndt will present the newest book in his series\, "Oregon Ghost Towns\, A-Z". This multi-media presentation will highlight the numerous ghost towns that can be accessed in Oregon   many right here in the Willamette Valley. Oregon is home to more than 250 ghost towns - more than any other state in this country! This presentation will give you the inspiration to start exploring them today!
X-ALT-DESC;FMTTYPE=text/html:<span style="font-family:arial\,helvetica\,sans-serif">Local author Steve Arndt will present the newest book in his series\, &ldquo\;Oregon Ghost Towns\, A-Z&rdquo\;. This multi-media presentation will highlight the numerous ghost towns that can be accessed in Oregon &ndash\; many right here in the Willamette Valley. Oregon is home to more than 250 ghost towns - more than any other state in this country! This presentation will give you the inspiration to start exploring them today!</span>
LOCATION:The End of the Oregon Trail Interpretive & Visitor Information Center 1726 Washington St. Oregon City\, OR 97045
UID:e.203.19112
SEQUENCE:3
DTSTAMP:20260423T085725Z
URL:https://business.oregoncity.org/events/details/oregon-s-ghost-towns-a-z-author-talk-19112
END:VEVENT

END:VCALENDAR
