BEGIN:VCALENDAR
VERSION:2.0
PRODID:-//ChamberMaster//Event Calendar 2.0//EN
METHOD:PUBLISH
X-PUBLISHED-TTL:P3D
REFRESH-INTERVAL:P3D
CALSCALE:GREGORIAN
BEGIN:VEVENT
DTSTART:20240518T173000Z
DTEND:20240518T183000Z
X-MICROSOFT-CDO-ALLDAYEVENT:FALSE
SUMMARY:Wing It: Far Far Away
DESCRIPTION:More Info: Join Clackamas Rep for a special Star Wars edition of Wing It\, an interactive series of shows for kids of all ages. Children will have fun helping silly creatures get out of a jam and learn their lessons when they misbehave. Amid dancing\, singing\, much laughter and a little yelling\, our Wing It forest friends will eventually solve the problem of the day. The grand finale? A talent show in which the children are invited onto the stage to sing a song\, recite a poem or tell a joke.
X-ALT-DESC;FMTTYPE=text/html:More Info: Join Clackamas Rep for a special Star Wars edition of Wing It\, an interactive series of shows for kids of all ages. Children will have fun helping silly creatures get out of a jam and learn their lessons when they misbehave. Amid dancing\, singing\, much laughter and a little yelling\, our Wing It forest friends will eventually solve the problem of the day. The grand finale? A talent show in which the children are invited onto the stage to sing a song\, recite a poem or tell a joke.
LOCATION:Osterman Theatre\, Clackamas Community College Campus
UID:e.203.31982
SEQUENCE:3
DTSTAMP:20260421T084349Z
URL:https://business.oregoncity.org/events/details/wing-it-far-far-away-31982
END:VEVENT

END:VCALENDAR
